BEGIN:VCALENDAR
VERSION:2.0
PRODID:-//Palgrave United Community Kitchen and Event Hub - ECPv6.15.20//NONSGML v1.0//EN
CALSCALE:GREGORIAN
METHOD:PUBLISH
X-ORIGINAL-URL:https://palgravekitchen.org
X-WR-CALDESC:Events for Palgrave United Community Kitchen and Event Hub
REFRESH-INTERVAL;VALUE=DURATION:PT1H
X-Robots-Tag:noindex
X-PUBLISHED-TTL:PT1H
BEGIN:VTIMEZONE
TZID:America/Toronto
BEGIN:DAYLIGHT
TZOFFSETFROM:-0500
TZOFFSETTO:-0400
TZNAME:EDT
DTSTART:20220313T070000
END:DAYLIGHT
BEGIN:STANDARD
TZOFFSETFROM:-0400
TZOFFSETTO:-0500
TZNAME:EST
DTSTART:20221106T060000
END:STANDARD
BEGIN:DAYLIGHT
TZOFFSETFROM:-0500
TZOFFSETTO:-0400
TZNAME:EDT
DTSTART:20230312T070000
END:DAYLIGHT
BEGIN:STANDARD
TZOFFSETFROM:-0400
TZOFFSETTO:-0500
TZNAME:EST
DTSTART:20231105T060000
END:STANDARD
BEGIN:DAYLIGHT
TZOFFSETFROM:-0500
TZOFFSETTO:-0400
TZNAME:EDT
DTSTART:20240310T070000
END:DAYLIGHT
BEGIN:STANDARD
TZOFFSETFROM:-0400
TZOFFSETTO:-0500
TZNAME:EST
DTSTART:20241103T060000
END:STANDARD
END:VTIMEZONE
BEGIN:VEVENT
DTSTART;TZID=America/Toronto:20230327T120000
DTEND;TZID=America/Toronto:20230327T133000
DTSTAMP:20260424T055624
CREATED:20230215T152803Z
LAST-MODIFIED:20230319T011808Z
UID:10000114-1679918400-1679923800@palgravekitchen.org
SUMMARY:Gratitude for Food Lunch and Learn Mon March 27  12:00 - 1:30pm
DESCRIPTION:                                                                                                                                                                                                                                                                             Join Gratitude for Food for Red Lentil Chili and chat!   Volunteers will be preparing the lunch (it is vegan and gluten free too). \nPlease register for this free community lunch. \n 
URL:https://palgravekitchen.org/event/gratitude-for-food-lunch-and-learn-mon-march-27-1200-130pm/
LOCATION:Palgrave United Church\, 34 Pine Avenue\, Palgrave\, Ontario\, L7E 0L9\, Canada
ORGANIZER;CN="EcoCaledon":MAILTO:info@ecocaledon.org
GEO:43.9510498;-79.8354955
X-APPLE-STRUCTURED-LOCATION;VALUE=URI;X-ADDRESS=Palgrave United Church 34 Pine Avenue Palgrave Ontario L7E 0L9 Canada;X-APPLE-RADIUS=500;X-TITLE=34 Pine Avenue:geo:-79.8354955,43.9510498
END:VEVENT
END:VCALENDAR