BEGIN:VCALENDAR
VERSION:2.0
PRODID:-//Palgrave United Community Kitchen and Event Hub - ECPv6.15.20//NONSGML v1.0//EN
CALSCALE:GREGORIAN
METHOD:PUBLISH
X-WR-CALNAME:Palgrave United Community Kitchen and Event Hub
X-ORIGINAL-URL:https://palgravekitchen.org
X-WR-CALDESC:Events for Palgrave United Community Kitchen and Event Hub
REFRESH-INTERVAL;VALUE=DURATION:PT1H
X-Robots-Tag:noindex
X-PUBLISHED-TTL:PT1H
BEGIN:VTIMEZONE
TZID:America/Toronto
BEGIN:DAYLIGHT
TZOFFSETFROM:-0500
TZOFFSETTO:-0400
TZNAME:EDT
DTSTART:20200308T070000
END:DAYLIGHT
BEGIN:STANDARD
TZOFFSETFROM:-0400
TZOFFSETTO:-0500
TZNAME:EST
DTSTART:20201101T060000
END:STANDARD
BEGIN:DAYLIGHT
TZOFFSETFROM:-0500
TZOFFSETTO:-0400
TZNAME:EDT
DTSTART:20210314T070000
END:DAYLIGHT
BEGIN:STANDARD
TZOFFSETFROM:-0400
TZOFFSETTO:-0500
TZNAME:EST
DTSTART:20211107T060000
END:STANDARD
BEGIN:DAYLIGHT
TZOFFSETFROM:-0500
TZOFFSETTO:-0400
TZNAME:EDT
DTSTART:20220313T070000
END:DAYLIGHT
BEGIN:STANDARD
TZOFFSETFROM:-0400
TZOFFSETTO:-0500
TZNAME:EST
DTSTART:20221106T060000
END:STANDARD
END:VTIMEZONE
BEGIN:VEVENT
DTSTART;TZID=America/Toronto:20210601T080000
DTEND;TZID=America/Toronto:20210731T000000
DTSTAMP:20260424T060549
CREATED:20190228T191711Z
LAST-MODIFIED:20210601T190652Z
UID:10000065-1622534400-1627689600@palgravekitchen.org
SUMMARY:2021 D2D Camper Registration
DESCRIPTION:Please register for D2D Camper 2021 by completing above registration form.  D2D 2021 Day Camp is for campers 8-13 years of age and will run for one week between Mon August 9 – Friday August 13\, 2021 from 9:00-4:00pm at Albion Hills Community Farm (entrance 16555 Humber Station Road). Before attending camp\, campers must sign a COVID19 Visitors Form. Campers must also be screened daily (screening form sent prior to arriving on site). D2D will follow current Provincial health guidelines (which could change prior to camp start August 9 2021. Upon registration and payment\, campers will be sent more details. Please note: all campers will bring their own lunch and snacks as well as masks\, closed toed shoes\, hat\, water and refillable water bottles. It is recommended that campers wear loose light long sleeve and pants (if not wearing then bring in backpack). Sunscreen and hats and bug repellent are advised. Campers will have a location to store backpack. Campers are also advised that any cellphones brought to camp are used for photography or calling home in emergencies (staff have phones for emergencies). Campers will also use a portable washroom with a hand washing station.     https://palgravekitchen.org/event/d2d-camper-registration/ \nIf you have any questions please contact us. \nBarb Imrie
URL:https://palgravekitchen.org/event/d2d-camper-registration/
LOCATION:Albion Hills Community Farm\, 16555 Humber Station Road\, Caledon\, Ontario\, L7E 3A5
ORGANIZER;CN="Palgrave United Community Kitchen":MAILTO:info@palgravekitchen.org
END:VEVENT
END:VCALENDAR