BEGIN:VCALENDAR
VERSION:2.0
PRODID:-//Palgrave United Community Kitchen and Event Hub - ECPv6.15.20//NONSGML v1.0//EN
CALSCALE:GREGORIAN
METHOD:PUBLISH
X-ORIGINAL-URL:https://palgravekitchen.org
X-WR-CALDESC:Events for Palgrave United Community Kitchen and Event Hub
REFRESH-INTERVAL;VALUE=DURATION:PT1H
X-Robots-Tag:noindex
X-PUBLISHED-TTL:PT1H
BEGIN:VTIMEZONE
TZID:America/Toronto
BEGIN:DAYLIGHT
TZOFFSETFROM:-0500
TZOFFSETTO:-0400
TZNAME:EDT
DTSTART:20200308T070000
END:DAYLIGHT
BEGIN:STANDARD
TZOFFSETFROM:-0400
TZOFFSETTO:-0500
TZNAME:EST
DTSTART:20201101T060000
END:STANDARD
BEGIN:DAYLIGHT
TZOFFSETFROM:-0500
TZOFFSETTO:-0400
TZNAME:EDT
DTSTART:20210314T070000
END:DAYLIGHT
BEGIN:STANDARD
TZOFFSETFROM:-0400
TZOFFSETTO:-0500
TZNAME:EST
DTSTART:20211107T060000
END:STANDARD
BEGIN:DAYLIGHT
TZOFFSETFROM:-0500
TZOFFSETTO:-0400
TZNAME:EDT
DTSTART:20220313T070000
END:DAYLIGHT
BEGIN:STANDARD
TZOFFSETFROM:-0400
TZOFFSETTO:-0500
TZNAME:EST
DTSTART:20221106T060000
END:STANDARD
BEGIN:DAYLIGHT
TZOFFSETFROM:-0500
TZOFFSETTO:-0400
TZNAME:EDT
DTSTART:20230312T070000
END:DAYLIGHT
BEGIN:STANDARD
TZOFFSETFROM:-0400
TZOFFSETTO:-0500
TZNAME:EST
DTSTART:20231105T060000
END:STANDARD
END:VTIMEZONE
BEGIN:VEVENT
DTSTART;TZID=America/Toronto:20210620T080000
DTEND;TZID=America/Toronto:20210627T170000
DTSTAMP:20260424T115659
CREATED:20210606T160127Z
LAST-MODIFIED:20210606T190302Z
UID:10000049-1624176000-1624813200@palgravekitchen.org
SUMMARY:Summer Solstice Scavenger Hunt (June 20-27)
DESCRIPTION:Explore Palgrave village using satellite map hunting for answers to questions (you can work individually or with people in your household). There will be prizes (Forster’s Book Garden gift certificate\, River Ridge Café gift certificate). Good luck! \nFree\, register on website; map and questions will be sent to your email.
URL:https://palgravekitchen.org/event/summer-solstice-scavenger-hunt-june-20-27/
LOCATION:Palgrave United Church\, 34 Pine Avenue\, Palgrave\, Ontario\, L7E 0L9\, Canada
CATEGORIES:New Horizons for Seniors Programs
ORGANIZER;CN="Palgrave United Community Kitchen":MAILTO:info@palgravekitchen.org
GEO:43.9510498;-79.8354955
X-APPLE-STRUCTURED-LOCATION;VALUE=URI;X-ADDRESS=Palgrave United Church 34 Pine Avenue Palgrave Ontario L7E 0L9 Canada;X-APPLE-RADIUS=500;X-TITLE=34 Pine Avenue:geo:-79.8354955,43.9510498
END:VEVENT
BEGIN:VEVENT
DTSTART;VALUE=DATE:20210507
DTEND;VALUE=DATE:20220301
DTSTAMP:20260424T115659
CREATED:20210507T154814Z
LAST-MODIFIED:20210511T223345Z
UID:10000048-1620345600-1646092799@palgravekitchen.org
SUMMARY:New Horizons for Seniors Programs REGISTRATION
DESCRIPTION:
URL:https://palgravekitchen.org/event/new-horizons-for-seniors-programs-registration/
LOCATION:Palgrave United Church\, 34 Pine Avenue\, Palgrave\, Ontario\, L7E 0L9\, Canada
CATEGORIES:New Horizons for Seniors Programs
ORGANIZER;CN="Palgrave United Community Kitchen":MAILTO:info@palgravekitchen.org
GEO:43.9510498;-79.8354955
X-APPLE-STRUCTURED-LOCATION;VALUE=URI;X-ADDRESS=Palgrave United Church 34 Pine Avenue Palgrave Ontario L7E 0L9 Canada;X-APPLE-RADIUS=500;X-TITLE=34 Pine Avenue:geo:-79.8354955,43.9510498
END:VEVENT
END:VCALENDAR