BEGIN:VCALENDAR
VERSION:2.0
PRODID:-//Palgrave United Community Kitchen and Event Hub - ECPv6.15.20//NONSGML v1.0//EN
CALSCALE:GREGORIAN
METHOD:PUBLISH
X-WR-CALNAME:Palgrave United Community Kitchen and Event Hub
X-ORIGINAL-URL:https://palgravekitchen.org
X-WR-CALDESC:Events for Palgrave United Community Kitchen and Event Hub
REFRESH-INTERVAL;VALUE=DURATION:PT1H
X-Robots-Tag:noindex
X-PUBLISHED-TTL:PT1H
BEGIN:VTIMEZONE
TZID:America/Toronto
BEGIN:DAYLIGHT
TZOFFSETFROM:-0500
TZOFFSETTO:-0400
TZNAME:EDT
DTSTART:20250309T070000
END:DAYLIGHT
BEGIN:STANDARD
TZOFFSETFROM:-0400
TZOFFSETTO:-0500
TZNAME:EST
DTSTART:20251102T060000
END:STANDARD
BEGIN:DAYLIGHT
TZOFFSETFROM:-0500
TZOFFSETTO:-0400
TZNAME:EDT
DTSTART:20260308T070000
END:DAYLIGHT
BEGIN:STANDARD
TZOFFSETFROM:-0400
TZOFFSETTO:-0500
TZNAME:EST
DTSTART:20261101T060000
END:STANDARD
BEGIN:DAYLIGHT
TZOFFSETFROM:-0500
TZOFFSETTO:-0400
TZNAME:EDT
DTSTART:20270314T070000
END:DAYLIGHT
BEGIN:STANDARD
TZOFFSETFROM:-0400
TZOFFSETTO:-0500
TZNAME:EST
DTSTART:20271107T060000
END:STANDARD
END:VTIMEZONE
BEGIN:VEVENT
DTSTART;TZID=America/Toronto:20260424T090000
DTEND;TZID=America/Toronto:20260424T113000
DTSTAMP:20260424T012220
CREATED:20250829T015313Z
LAST-MODIFIED:20260115T195655Z
UID:10005041-1777021200-1777030200@palgravekitchen.org
SUMMARY:Caledon Meals on Wheels Exercise & Social - Hall and Kitchen
DESCRIPTION:Contact Caledon Meals on Wheels for registration information.
URL:https://palgravekitchen.org/event/cmow-exercise-social-2/2026-04-24/
END:VEVENT
BEGIN:VEVENT
DTSTART;TZID=America/Toronto:20260424T140000
DTEND;TZID=America/Toronto:20260424T150000
DTSTAMP:20260424T012220
CREATED:20251008T002200Z
LAST-MODIFIED:20260115T195952Z
UID:10004011-1777039200-1777042800@palgravekitchen.org
SUMMARY:Chair Yoga - Sanctuary or Hall
DESCRIPTION:Join us on Mondays and Fridays for Chair Yoga. Please arrive with comfortable clothing (indoor shoes or warm socks) – no mat required.  No experience necessary. \nOur certified instructors will lead your practice and help you modify for your needs.  No floor work. \nFirst class is free.  Regular rate is $8/class if you purchase 5 or 10 tickets and $10 drop-in. If you are new or have questions please email us at info@palgravekitchen.org.
URL:https://palgravekitchen.org/event/chair-yoga-3-2-2/2026-04-24/
END:VEVENT
BEGIN:VEVENT
DTSTART;TZID=America/Toronto:20260424T180000
DTEND;TZID=America/Toronto:20260424T210000
DTSTAMP:20260424T012220
CREATED:20260414T001321Z
LAST-MODIFIED:20260415T003628Z
UID:10005870-1777053600-1777064400@palgravekitchen.org
SUMMARY:Make It\, Taste It\, Take It - Batch Cooking
DESCRIPTION:Learn meal planning\, cooking techniques\, food storage\, and time saving.\nIn this workshop\, you’ll cook three different recipes\, each yielding four servings for a total of 12 portions. Then\, take all the meals home – ready to refrigerate or freeze!
URL:https://palgravekitchen.org/event/make-it-taste-it-take-it-batch-cooking/
LOCATION:Palgrave United Church\, 34 Pine Avenue\, Palgrave\, Ontario\, L7E 0L9\, Canada
ATTACH;FMTTYPE=image/jpeg:https://palgravekitchen.org/wp-content/uploads/2026/04/Lasagna.jpg
GEO:43.9510498;-79.8354955
X-APPLE-STRUCTURED-LOCATION;VALUE=URI;X-ADDRESS=Palgrave United Church 34 Pine Avenue Palgrave Ontario L7E 0L9 Canada;X-APPLE-RADIUS=500;X-TITLE=34 Pine Avenue:geo:-79.8354955,43.9510498
END:VEVENT
END:VCALENDAR